BEGIN:VCALENDAR
VERSION:2.0
PRODID:icalendar-ruby
CALSCALE:GREGORIAN
METHOD:PUBLISH
X-WR-CALNAME:French Creek Curling Club: Draws
BEGIN:VTIMEZONE
TZID:America/New_York
BEGIN:DAYLIGHT
DTSTART:20260308T030000
TZOFFSETFROM:-0500
TZOFFSETTO:-0400
RRULE:FREQ=YEARLY;BYDAY=2SU;BYMONTH=3
TZNAME:EDT
END:DAYLIGHT
BEGIN:STANDARD
DTSTART:20261101T010000
TZOFFSETFROM:-0400
TZOFFSETTO:-0500
RRULE:FREQ=YEARLY;BYDAY=1SU;BYMONTH=11
TZNAME:EST
END:STANDARD
END:VTIMEZONE
BEGIN:VEVENT
DTSTAMP:20260420T094013Z
UID:drawid:187907
DTSTART:20251018T183000
DTEND:20251018T203000
DESCRIPTION:Glace B: McIntire v Rosato\, Glace C: McNally v Lavery
LOCATION:LECOM Sports Park\, 8159 Oliver Rd\, Erie\, 16509\, PA\, US
SEQUENCE:1776678013
SUMMARY:Fall 2025 League
URL;VALUE=URI:https://french-creek.curling.io/fr/events/25949-fall-2025-lea
 gue/widget
END:VEVENT
BEGIN:VEVENT
DTSTAMP:20260420T094013Z
UID:drawid:187908
DTSTART:20251025T183000
DTEND:20251025T203000
DESCRIPTION:Glace B: Lavery v Stroeder\, Glace C: McIntire v McNally
LOCATION:LECOM Sports Park\, 8159 Oliver Rd\, Erie\, 16509\, PA\, US
SEQUENCE:1776678013
SUMMARY:Fall 2025 League
URL;VALUE=URI:https://french-creek.curling.io/fr/events/25949-fall-2025-lea
 gue/widget
END:VEVENT
BEGIN:VEVENT
DTSTAMP:20260420T094013Z
UID:drawid:187905
DTSTART:20251101T183000
DTEND:20251101T203000
DESCRIPTION:Glace B: Rosato v McNally\, Glace C: McIntire v Stroeder
LOCATION:LECOM Sports Park\, 8159 Oliver Rd\, Erie\, 16509\, PA\, US
SEQUENCE:1776678013
SUMMARY:Fall 2025 League
URL;VALUE=URI:https://french-creek.curling.io/fr/events/25949-fall-2025-lea
 gue/widget
END:VEVENT
BEGIN:VEVENT
DTSTAMP:20260420T094013Z
UID:drawid:187906
DTSTART:20251108T190000
DTEND:20251108T210000
DESCRIPTION:Glace B: Stroeder v McNally\, Glace C: Rosato v Lavery
LOCATION:LECOM Sports Park\, 8159 Oliver Rd\, Erie\, 16509\, PA\, US
SEQUENCE:1776678013
SUMMARY:Fall 2025 League
URL;VALUE=URI:https://french-creek.curling.io/fr/events/25949-fall-2025-lea
 gue/widget
END:VEVENT
BEGIN:VEVENT
DTSTAMP:20260420T094013Z
UID:drawid:187909
DTSTART:20251115T183000
DTEND:20251115T203000
DESCRIPTION:Glace B: Lavery v McIntire\, Glace C: Stroeder v Rosato
LOCATION:LECOM Sports Park\, 8159 Oliver Rd\, Erie\, 16509\, PA\, US
SEQUENCE:1776678013
SUMMARY:Fall 2025 League
URL;VALUE=URI:https://french-creek.curling.io/fr/events/25949-fall-2025-lea
 gue/widget
END:VEVENT
BEGIN:VEVENT
DTSTAMP:20260420T094013Z
UID:drawid:187910
DTSTART:20251122T183000
DTEND:20251122T203000
DESCRIPTION:Glace B: Stroeder v McIntire (2)\, Glace C: Lavery v McNally (2
 )
LOCATION:LECOM Sports Park\, 8159 Oliver Rd\, Erie\, 16509\, PA\, US
SEQUENCE:1776678013
SUMMARY:Fall 2025 League
URL;VALUE=URI:https://french-creek.curling.io/fr/events/25949-fall-2025-lea
 gue/widget
END:VEVENT
BEGIN:VEVENT
DTSTAMP:20260420T094013Z
UID:drawid:187911
DTSTART:20251206T183000
DTEND:20251206T203000
DESCRIPTION:Glace B: Rosato v McNally (2)\, Glace C: Stroeder v Lavery (2)
LOCATION:LECOM Sports Park\, 8159 Oliver Rd\, Erie\, 16509\, PA\, US
SEQUENCE:1776678013
SUMMARY:Fall 2025 League
URL;VALUE=URI:https://french-creek.curling.io/fr/events/25949-fall-2025-lea
 gue/widget
END:VEVENT
BEGIN:VEVENT
DTSTAMP:20260420T094013Z
UID:drawid:187912
DTSTART:20251220T183000
DTEND:20251220T203000
DESCRIPTION:Glace B: McIntire v Lavery (2)\, Glace C: Stroeder v Rosato (2)
LOCATION:LECOM Sports Park\, 8159 Oliver Rd\, Erie\, 16509\, PA\, US
SEQUENCE:1776678013
SUMMARY:Fall 2025 League
URL;VALUE=URI:https://french-creek.curling.io/fr/events/25949-fall-2025-lea
 gue/widget
END:VEVENT
BEGIN:VEVENT
DTSTAMP:20260420T094013Z
UID:drawid:190899
DTSTART:20260103T183000
DTEND:20260103T203000
DESCRIPTION:Glace B: McIntire v McNally\, Glace C: Rosato v Lavery
LOCATION:LECOM Sports Park\, 8159 Oliver Rd\, Erie\, 16509\, PA\, US
SEQUENCE:1776678013
SUMMARY:Fall 2025 League
URL;VALUE=URI:https://french-creek.curling.io/fr/events/25949-fall-2025-lea
 gue/widget
END:VEVENT
BEGIN:VEVENT
DTSTAMP:20260420T094013Z
UID:drawid:203689
DTSTART:20260110T183000
DTEND:20260110T203000
DESCRIPTION:Glace B: McIntire v Stroeder\, Glace C: Lavery v McNally
LOCATION:LECOM Sports Park\, 8159 Oliver Rd\, Erie\, 16509\, PA\, US
SEQUENCE:1776678013
SUMMARY:Fall 2025 League
URL;VALUE=URI:https://french-creek.curling.io/fr/events/25949-fall-2025-lea
 gue/widget
END:VEVENT
END:VCALENDAR
